{
 "currentVersion": 10.61,
 "serviceDescription": "",
 "mapName": "Layers",
 "description": "",
 "copyrightText": "",
 "supportsDynamicLayers": false,
 "layers": [
  {
   "id": 0,
   "name": "Palos Hills 1938 Leaf Off",
   "parentLayerId": -1,
   "defaultVisibility": true,
   "subLayerIds": null,
   "minScale": 0,
   "maxScale": 0
  }
 ],
 "tables": [],
 "spatialReference": {
  "wkid": 102671,
  "latestWkid": 3435
 },
 "singleFusedMapCache": true,
 "tileInfo": {
  "rows": 256,
  "cols": 256,
  "dpi": 72,
  "format": "PNG32",
  "compressionQuality": 0,
  "origin": {
   "x": -17463800,
   "y": 19496100
  },
  "spatialReference": {
   "wkid": 102671,
   "latestWkid": 3435
  },
  "lods": [
   {
    "level": 0,
    "resolution": 57.87037037037037,
    "scale": 50000
   },
   {
    "level": 1,
    "resolution": 34.72222222222222,
    "scale": 30000
   },
   {
    "level": 2,
    "resolution": 23.148148148148145,
    "scale": 20000
   },
   {
    "level": 3,
    "resolution": 11.574074074074073,
    "scale": 10000
   },
   {
    "level": 4,
    "resolution": 5.787037037037036,
    "scale": 5000
   },
   {
    "level": 5,
    "resolution": 2.893518518518518,
    "scale": 2500
   },
   {
    "level": 6,
    "resolution": 1.1574074074074074,
    "scale": 1000
   },
   {
    "level": 7,
    "resolution": 0.5787037037037037,
    "scale": 500
   },
   {
    "level": 8,
    "resolution": 0.28935185185185186,
    "scale": 250
   },
   {
    "level": 9,
    "resolution": 0.11574074074074073,
    "scale": 100
   },
   {
    "level": 10,
    "resolution": 0.057870370370370364,
    "scale": 50
   }
  ]
 },
 "initialExtent": {
  "xmin": 1091586.7323735515,
  "ymin": 1830315.2621693057,
  "xmax": 1154911.3851513295,
  "ymax": 1848718.0399470837,
  "spatialReference": {
   "wkid": 102671,
   "latestWkid": 3435
  }
 },
 "fullExtent": {
  "xmin": 1108942.4133525318,
  "ymin": 1822735.5177721477,
  "xmax": 1140258.090353318,
  "ymax": 1848074.028086336,
  "spatialReference": {
   "wkid": 102671,
   "latestWkid": 3435
  }
 },
 "minScale": 50000,
 "maxScale": 50,
 "units": "esriFeet",
 "supportedImageFormatTypes": "PNG32,PNG24,PNG,JPG,DIB,TIFF,EMF,PS,PDF,GIF,SVG,SVGZ,BMP",
 "documentInfo": {
  "Title": "Aerial Photos - 1938",
  "Author": "Benjamin Kinney",
  "Comments": "Aerial imagery of the City of Palos Hills in 1938",
  "Subject": "Aerial imagery of the City of Palos Hills in 1938",
  "Category": "",
  "AntialiasingMode": "None",
  "TextAntialiasingMode": "Force",
  "Keywords": ""
 },
 "capabilities": "Map",
 "supportedQueryFormats": "JSON, AMF, geoJSON",
 "exportTilesAllowed": false,
 "datumTransformations": [
  {
   "geoTransforms": [
    {
     "wkid": 108001,
     "latestWkid": 1241,
     "transformForward": true,
     "name": "NAD_1927_To_NAD_1983_NADCON"
    }
   ]
  },
  {
   "geoTransforms": [
    {
     "wkid": 108001,
     "latestWkid": 1241,
     "transformForward": false,
     "name": "NAD_1927_To_NAD_1983_NADCON"
    }
   ]
  }
 ],
 "supportsDatumTransformation": true,
 "maxRecordCount": 1000,
 "maxImageHeight": 4096,
 "maxImageWidth": 4096,
 "supportedExtensions": ""
}
