{
 "currentVersion": 10.61,
 "serviceDescription": "",
 "mapName": "Layers",
 "description": "",
 "copyrightText": "",
 "supportsDynamicLayers": false,
 "layers": [
  {
   "id": 0,
   "name": "Palos Hills 2009 Leaf On",
   "parentLayerId": -1,
   "defaultVisibility": true,
   "subLayerIds": null,
   "minScale": 0,
   "maxScale": 0
  }
 ],
 "tables": [],
 "spatialReference": {
  "wkt": "PROJCS[\"NAD_1983_HARN_Illinois_East\",GEOGCS[\"GCS_North_American_1983_HARN\",DATUM[\"D_North_American_1983_HARN\",SPHEROID[\"GRS_1980\",6378137.0,298.257222101]],PRIMEM[\"Greenwich\",0.0],UNIT[\"Degree\",0.0174532925199433]],PROJECTION[\"Transverse_Mercator\"],PARAMETER[\"false_easting\",984250.0],PARAMETER[\"false_northing\",0.0],PARAMETER[\"central_meridian\",-88.33333333333333],PARAMETER[\"scale_factor\",0.999975],PARAMETER[\"latitude_of_origin\",36.66666666666666],UNIT[\"Foot_US\",0.3048006096012192]]"
 },
 "singleFusedMapCache": true,
 "tileInfo": {
  "rows": 256,
  "cols": 256,
  "dpi": 96,
  "format": "PNG32",
  "compressionQuality": 0,
  "origin": {
   "x": -17463800,
   "y": 19496100
  },
  "spatialReference": {
   "wkt": "PROJCS[\"NAD_1983_HARN_Illinois_East\",GEOGCS[\"GCS_North_American_1983_HARN\",DATUM[\"D_North_American_1983_HARN\",SPHEROID[\"GRS_1980\",6378137.0,298.257222101]],PRIMEM[\"Greenwich\",0.0],UNIT[\"Degree\",0.0174532925199433]],PROJECTION[\"Transverse_Mercator\"],PARAMETER[\"false_easting\",984250.0],PARAMETER[\"false_northing\",0.0],PARAMETER[\"central_meridian\",-88.33333333333333],PARAMETER[\"scale_factor\",0.999975],PARAMETER[\"latitude_of_origin\",36.66666666666666],UNIT[\"Foot_US\",0.3048006096012192]]"
  },
  "lods": [
   {
    "level": 0,
    "resolution": 43.40277777777778,
    "scale": 50000
   },
   {
    "level": 1,
    "resolution": 26.041666666666664,
    "scale": 30000
   },
   {
    "level": 2,
    "resolution": 17.36111111111111,
    "scale": 20000
   },
   {
    "level": 3,
    "resolution": 8.680555555555555,
    "scale": 10000
   },
   {
    "level": 4,
    "resolution": 4.340277777777778,
    "scale": 5000
   },
   {
    "level": 5,
    "resolution": 2.170138888888889,
    "scale": 2500
   },
   {
    "level": 6,
    "resolution": 0.8680555555555555,
    "scale": 1000
   },
   {
    "level": 7,
    "resolution": 0.43402777777777773,
    "scale": 500
   },
   {
    "level": 8,
    "resolution": 0.21701388888888887,
    "scale": 250
   },
   {
    "level": 9,
    "resolution": 0.08680555555555555,
    "scale": 100
   },
   {
    "level": 10,
    "resolution": 0.043402777777777776,
    "scale": 50
   }
  ]
 },
 "initialExtent": {
  "xmin": 1081243.553008596,
  "ymin": 1830017.9083094557,
  "xmax": 1148756.446991404,
  "ymax": 1851750.0000000002,
  "spatialReference": {
   "cs": "pcs",
   "wkt": "PROJCS[\"NAD_1983_HARN_Illinois_East\",GEOGCS[\"GCS_North_American_1983_HARN\",DATUM[\"D_North_American_1983_HARN\",SPHEROID[\"GRS_1980\",6378137.0,298.257222101]],PRIMEM[\"Greenwich\",0.0],UNIT[\"Degree\",0.0174532925199433]],PROJECTION[\"Transverse_Mercator\"],PARAMETER[\"false_easting\",984250.0],PARAMETER[\"false_northing\",0.0],PARAMETER[\"central_meridian\",-88.33333333333333],PARAMETER[\"scale_factor\",0.999975],PARAMETER[\"latitude_of_origin\",36.66666666666666],UNIT[\"Foot_US\",0.3048006096012192]]"
  }
 },
 "fullExtent": {
  "xmin": 1100000,
  "ymin": 1815000,
  "xmax": 1130000,
  "ymax": 1850000,
  "spatialReference": {
   "cs": "pcs",
   "wkt": "PROJCS[\"NAD_1983_HARN_Illinois_East\",GEOGCS[\"GCS_North_American_1983_HARN\",DATUM[\"D_North_American_1983_HARN\",SPHEROID[\"GRS_1980\",6378137.0,298.257222101]],PRIMEM[\"Greenwich\",0.0],UNIT[\"Degree\",0.0174532925199433]],PROJECTION[\"Transverse_Mercator\"],PARAMETER[\"false_easting\",984250.0],PARAMETER[\"false_northing\",0.0],PARAMETER[\"central_meridian\",-88.33333333333333],PARAMETER[\"scale_factor\",0.999975],PARAMETER[\"latitude_of_origin\",36.66666666666666],UNIT[\"Foot_US\",0.3048006096012192]]"
  }
 },
 "minScale": 50000,
 "maxScale": 50,
 "units": "esriFeet",
 "supportedImageFormatTypes": "PNG32,PNG24,PNG,JPG,DIB,TIFF,EMF,PS,PDF,GIF,SVG,SVGZ,BMP",
 "documentInfo": {
  "Title": "",
  "Author": "",
  "Comments": "",
  "Subject": "",
  "Category": "",
  "AntialiasingMode": "None",
  "TextAntialiasingMode": "Force",
  "Keywords": ""
 },
 "capabilities": "Map",
 "supportedQueryFormats": "JSON, AMF, geoJSON",
 "exportTilesAllowed": false,
 "supportsDatumTransformation": true,
 "maxRecordCount": 1000,
 "maxImageHeight": 4096,
 "maxImageWidth": 4096,
 "supportedExtensions": ""
}
