{
 "currentVersion": 10.61,
 "serviceDescription": "The area represents where garbage service is provided to single family homes. Other areas including, but not limited to, multi unit residential and commercial buildings must contract their own garbage service.",
 "mapName": "Layers",
 "description": "",
 "copyrightText": "",
 "supportsDynamicLayers": true,
 "layers": [
  {
   "id": 0,
   "name": "Garbage Pickup",
   "parentLayerId": -1,
   "defaultVisibility": true,
   "subLayerIds": null,
   "minScale": 0,
   "maxScale": 0
  }
 ],
 "tables": [],
 "spatialReference": {
  "wkid": 102671,
  "latestWkid": 3435
 },
 "singleFusedMapCache": true,
 "tileInfo": {
  "rows": 256,
  "cols": 256,
  "dpi": 96,
  "format": "PNG32",
  "compressionQuality": 0,
  "origin": {
   "x": -17463800,
   "y": 19496100
  },
  "spatialReference": {
   "wkid": 102671,
   "latestWkid": 3435
  },
  "lods": [
   {
    "level": 0,
    "resolution": 43.40277777777778,
    "scale": 50000
   },
   {
    "level": 1,
    "resolution": 26.041666666666664,
    "scale": 30000
   },
   {
    "level": 2,
    "resolution": 17.36111111111111,
    "scale": 20000
   },
   {
    "level": 3,
    "resolution": 8.680555555555555,
    "scale": 10000
   },
   {
    "level": 4,
    "resolution": 4.340277777777778,
    "scale": 5000
   },
   {
    "level": 5,
    "resolution": 2.170138888888889,
    "scale": 2500
   },
   {
    "level": 6,
    "resolution": 0.8680555555555555,
    "scale": 1000
   },
   {
    "level": 7,
    "resolution": 0.43402777777777773,
    "scale": 500
   },
   {
    "level": 8,
    "resolution": 0.21701388888888887,
    "scale": 250
   },
   {
    "level": 9,
    "resolution": 0.08680555555555555,
    "scale": 100
   },
   {
    "level": 10,
    "resolution": 0.043402777777777776,
    "scale": 50
   }
  ]
 },
 "initialExtent": {
  "xmin": 1102419.3161581412,
  "ymin": 1829143.5009511497,
  "xmax": 1145127.6494914747,
  "ymax": 1851843.1537289277,
  "spatialReference": {
   "wkid": 102671,
   "latestWkid": 3435
  }
 },
 "fullExtent": {
  "xmin": 1117069.2503721043,
  "ymin": 1827497.7859286442,
  "xmax": 1130477.7152775116,
  "ymax": 1840294.4243069887,
  "spatialReference": {
   "wkid": 102671,
   "latestWkid": 3435
  }
 },
 "minScale": 50000,
 "maxScale": 50,
 "units": "esriFeet",
 "supportedImageFormatTypes": "PNG32,PNG24,PNG,JPG,DIB,TIFF,EMF,PS,PDF,GIF,SVG,SVGZ,BMP",
 "documentInfo": {
  "Title": "Garbage Pickup",
  "Author": "Benjamin Kinney",
  "Comments": "The area represents where garbage service is provided to single family homes. Other areas including, but not limited to, multi unit residential and commercial buildings must contract their own garbage service.",
  "Subject": "Areas where garbage service is provided to single family homes",
  "Category": "",
  "AntialiasingMode": "None",
  "TextAntialiasingMode": "Force",
  "Keywords": ""
 },
 "capabilities": "Map,Query,Data",
 "supportedQueryFormats": "JSON, AMF, geoJSON",
 "hasVersionedData": true,
 "exportTilesAllowed": false,
 "datumTransformations": [
  {
   "geoTransforms": [
    {
     "wkid": 108001,
     "latestWkid": 1241,
     "transformForward": true,
     "name": "NAD_1927_To_NAD_1983_NADCON"
    }
   ]
  },
  {
   "geoTransforms": [
    {
     "wkid": 108001,
     "latestWkid": 1241,
     "transformForward": false,
     "name": "NAD_1927_To_NAD_1983_NADCON"
    }
   ]
  }
 ],
 "supportsDatumTransformation": true,
 "maxRecordCount": 1000,
 "maxImageHeight": 4096,
 "maxImageWidth": 4096,
 "supportedExtensions": ""
}
